BEGIN:VCALENDAR
VERSION:2.0
PRODID:-//223.130.27.40//NONSGML kigkonsult.se iCalcreator 2.26.9//
CALSCALE:GREGORIAN
METHOD:PUBLISH
X-WR-CALNAME:Nedlands Rugby Union Football Club
X-WR-CALDESC:
X-FROM-URL:https://nedlandsrugby.com.au
X-WR-TIMEZONE:Australia/Perth
BEGIN:VTIMEZONE
TZID:Australia/Perth
X-LIC-LOCATION:Australia/Perth
BEGIN:STANDARD
DTSTART:20090329T030000
TZOFFSETFROM:+0900
TZOFFSETTO:+0800
TZNAME:AWST
END:STANDARD
END:VTIMEZONE
BEGIN:VEVENT
UID:040000008200E00074C5B7101A82E00800000000BD0DE84825E1D501000000000000000
 01000000021DA1A7CFA9E2547A1B3C1D3DCB9FD4F
DTSTAMP:20200229T025741Z
CATEGORIES:
CONTACT:
DESCRIPTION:
DTSTART;TZID=Australia/Perth:20200222T140000
DTEND;TZID=Australia/Perth:20200222T160000
SEQUENCE:0
SUMMARY:Western Force Trial
URL:https://nedlandsrugby.com.au/event/western-force-trial/
X-ALT-DESC;FMTTYPE=text/html:<!DOCTYPE HTML PUBLIC '-//W3C//DTD HTML 3.2//E
 N'>\\n<HTML>\\n<HEAD>\\n<TITLE></TITLE>\\n</HEAD>\\n<BODY><style type='tex
 t/css'></style></BODY></HTML>
END:VEVENT
END:VCALENDAR
