BEGIN:VCALENDAR
VERSION:2.0
PRODID:-//223.130.27.40//NONSGML kigkonsult.se iCalcreator 2.26.9//
CALSCALE:GREGORIAN
METHOD:PUBLISH
X-WR-CALNAME:Nedlands Rugby Union Football Club
X-WR-CALDESC:
X-FROM-URL:https://nedlandsrugby.com.au
X-WR-TIMEZONE:Australia/Perth
BEGIN:VTIMEZONE
TZID:Australia/Perth
X-LIC-LOCATION:Australia/Perth
BEGIN:STANDARD
DTSTART:20090329T030000
TZOFFSETFROM:+0900
TZOFFSETTO:+0800
TZNAME:AWST
END:STANDARD
END:VTIMEZONE
BEGIN:VEVENT
UID:040000008200E00074C5B7101A82E0080000000058982AD425E1D501000000000000000
 010000000F60460DD08ADF244A4C08B41E2F7B1D7
DTSTAMP:20200229T025851Z
CATEGORIES:
CONTACT:
DESCRIPTION:<style type='text/css'></style>
DTSTART;TZID=Australia/Perth:20200222T160000
DTEND;TZID=Australia/Perth:20200222T163000
SEQUENCE:0
SUMMARY:Super W MAtch WA v Qld
URL:https://nedlandsrugby.com.au/event/super-w-match-wa-v-qld/
END:VEVENT
END:VCALENDAR
