BEGIN:VCALENDAR
VERSION:2.0
PRODID:-//223.130.27.40//NONSGML kigkonsult.se iCalcreator 2.26.9//
CALSCALE:GREGORIAN
METHOD:PUBLISH
X-WR-CALNAME:Nedlands Rugby Union Football Club
X-WR-CALDESC:
X-FROM-URL:https://nedlandsrugby.com.au
X-WR-TIMEZONE:Australia/Perth
BEGIN:VTIMEZONE
TZID:Australia/Perth
X-LIC-LOCATION:Australia/Perth
BEGIN:STANDARD
DTSTART:20090329T030000
TZOFFSETFROM:+0900
TZOFFSETTO:+0800
TZNAME:AWST
END:STANDARD
END:VTIMEZONE
BEGIN:VEVENT
UID:040000008200E00074C5B7101A82E0080000000051E543D114E6D501000000000000000
 010000000C7415B7AF2A5FF4386B320A717AB6E28
DTSTAMP:20200229T025616Z
CATEGORIES:
CONTACT:
DESCRIPTION:Refer to Kylie-Anne or Char for queries.
DTSTART;TZID=Australia/Perth:20200222T100000
DTEND;TZID=Australia/Perth:20200222T140000
LOCATION:Nedlands Rugby Union Football Club (Charles Court Reserve\, 181 Br
 oadway\, Nedlands Western Australia\, Australia)
SEQUENCE:0
SUMMARY:Juniors Registration and Open Day
URL:https://nedlandsrugby.com.au/event/juniors-registration-and-open-day/
X-ALT-DESC;FMTTYPE=text/html:<!DOCTYPE HTML PUBLIC '-//W3C//DTD HTML 3.2//E
 N'>\\n<HTML>\\n<HEAD>\\n<TITLE></TITLE>\\n</HEAD>\\n<BODY><style type='tex
 t/css'></style><p>Refer to Kylie-Anne or Char for queries.</p>\n</BODY></H
 TML>
END:VEVENT
END:VCALENDAR
